BEGIN:VCALENDAR
VERSION:2.0
METHOD:PUBLISH
PRODID:-//hacksw/handcal//NONSGML v1.0//EN
BEGIN:VEVENT
DTSTAMP:20260424T035526Z
DTSTART:20180922T180000Z
DTEND:20180922T215900Z
UID:20180922T180000Z-20180922T215900Z-117@www.waldmark.at
SUMMARY:Themenkneipe
DESCRIPTION:Thema: Winter is coming
X-ALT-DESC;FMTTYPE=text/html:<p>Thema: Winter is coming</p>\n
URL:https://www.waldmark.at/wp/events/117/themenkneipe/
ATTACH:https://www.waldmark.at/wp/events/117/themenkneipe/
LOCATION:Leopold-Topf-Bude\, Rathausplatz 4\, Horn
END:VEVENT
END:VCALENDAR
