BEGIN:VCALENDAR
VERSION:2.0
METHOD:PUBLISH
PRODID:-//hacksw/handcal//NONSGML v1.0//EN
BEGIN:VEVENT
DTSTAMP:20260424T093930Z
DTSTART:20200117T190000Z
DTEND:20200117T230000Z
UID:20200117T190000Z-20200117T230000Z-174@www.waldmark.at
SUMMARY:Themenkneipe
DESCRIPTION:
X-ALT-DESC;FMTTYPE=text/html:
URL:https://www.waldmark.at/wp/events/themenkneipe-3/?lang=de
ATTACH:https://www.waldmark.at/wp/events/themenkneipe-3/?lang=de
LOCATION:Leopold-Topf-Bude\, Rathausplatz 4\, Horn
END:VEVENT
END:VCALENDAR
