BEGIN:VCALENDAR
VERSION:2.0
METHOD:PUBLISH
PRODID:-//hacksw/handcal//NONSGML v1.0//EN
BEGIN:VEVENT
DTSTAMP:20260424T094725Z
DTSTART:20201002T170000Z
DTEND:20201002T215500Z
UID:20201002T170000Z-20201002T215500Z-206@www.waldmark.at
SUMMARY:Von Friedensfurien und dalmatinischen Küstenrehen - Lesung mit
  Dr. Tamara Scheer
DESCRIPTION:
X-ALT-DESC;FMTTYPE=text/html:
URL:https://www.waldmark.at/wp/events/von-friedensfurien-und-dalmatini
 schen-kuestenrehen-lesung-mit-dr-tamara-scheer/?lang=de
ATTACH:https://www.waldmark.at/wp/events/von-friedensfurien-und-dalmat
 inischen-kuestenrehen-lesung-mit-dr-tamara-scheer/?lang=de
ATTACH:https://www.waldmark.at/wp/wp-content/uploads/2020/09/Plakat-Le
 sung-Tamara-Scheer-250x250.png
LOCATION:Höbarthhalle im Museum Horn\, Wiener Str. 4\, Horn
END:VEVENT
END:VCALENDAR
