BEGIN:VCALENDAR
VERSION:2.0
METHOD:PUBLISH
PRODID:-//hacksw/handcal//NONSGML v1.0//EN
BEGIN:VEVENT
DTSTAMP:20260424T093931Z
DTSTART:20210916T170000Z
DTEND:20210916T215500Z
UID:20210916T170000Z-20210916T215500Z-239@www.waldmark.at
SUMMARY:WWZ
DESCRIPTION:
X-ALT-DESC;FMTTYPE=text/html:
URL:https://www.waldmark.at/wp/events/wwz-5/?lang=de
ATTACH:https://www.waldmark.at/wp/events/wwz-5/?lang=de
ATTACH:https://www.waldmark.at/wp/wp-content/uploads/2020/09/Essen-250
 x250.png
END:VEVENT
END:VCALENDAR
